 BEGIN:VCALENDAR
VERSION:2.0
PRODID:-// eRoom plugin //NONSGML v1.0//EN
CALSCALE:GREGORIAN
BEGIN:VEVENT
UID:eRoom-1777040918
SUMMARY:Integrity &#038; Inspection Management of Lifting Equipment by Using VAIL-Plant® LEMS Module
LOCATION:Zoom
DESCRIPTION:Ubaid Ullah is inviting you to a scheduled Zoom meeting.\n\nTop
 ic: Integrity & Inspection Management of Lifting Equipment by Using VAIL-P
 lant® LEMS Module\nTime: May 24\, 2026 02:00 PM Dubai\nJoin Zoom Meeting
 \nhttps://us04web.zoom.us/j/77829921877?pwd=6FACbDdmashgLEaJfYu9XElJ0OCuhO
 .1\n\nMeeting ID: 778 2992 1877\nPasscode: vpx8St\n\nJoin instructions\nht
 tps://us04web.zoom.us/meetings/77829921877/invitations?signature=S8jbyHl_y
 MXANG9e8G6B5qG4NiohJ5b2TvkIbpjYWAs\n\n
URL;VALUE=URI:https://us04web.zoom.us/j/77829921877?pwd=6FACbDdmashgLEaJfYu9XElJ0OCuhO.1
DTSTART:20260524T100000Z
DTEND:20260524T120000Z
DTSTAMP:20260424T142838Z
BEGIN:VALARM
ACTION:DISPLAY
DESCRIPTION:Reminder
TRIGGER;RELATED=START:-PT15M
END:VALARM
END:VEVENT
END:VCALENDAR